Workbook

Sheet Rekapitulacija
A1: Naručitelj: Dječji vrtić "Medenjak" Koprivnica
A2: Evidencijski broj nabave:
A3: 4/25 JDN
A4: Predmet nabave:
A5: Meso
A8: REKAPITULACIJA TROŠKOVNIKA
A9: Redni broj | B9: Naziv grupe | C9: Ukupna cijena ponude bez PDV-a | D9: Ukupna cijena ponude s PDV-om
A10: 1. | B10: Grupa A- Svježe meso | C10: ='Grupa A-Svježe meso'!H13 -> 0 | D10: ='Grupa A-Svježe meso'!H15 -> 0
A11: 2. | B11: Grupa B- Suhomesnati proizvodi | C11: ='Grupa B-Suhomesnati proizvodi'!H13 -> 0 | D11: ='Grupa B-Suhomesnati proizvodi'!H15 -> 0
A12: 3. | B12: Grupa C- Pileće meso | C12: ='Grupa C-Pileće meso'!H13 -> 0 | D12: ='Grupa C-Pileće meso'!H15 -> 0
B13: SVEUKUPNO | C13: =SUM(C10:C12) -> 0 | D13: =SUM(D10:D12) -> 0
A16: U _________________2025. godine | C16: Potpis i pečat:___________________________

Sheet Grupa A-Svježe meso
A1: Naručitelj: Dječji vrtić "Medenjak" Koprivnica
A2: Evidencijski broj nabave:
A3: 4/25 JDN
A4: Predmet nabave:
A5: Grupa A- Svježe meso
A7: Naziv ponuditelja:
A8: (ovdje upisati naziv ponuditelja - ispunjava ponuditelj)
A9: Redni broj | B9: Naziv artikla | C9: Jedinica mjere | D9: Okvirna količina | E9: Cijena stavke (bez PDV-a) | F9: Stopa PDV-a po stavci | G9: Ukupna cijena stavke (bez PDV-a) | H9: Iznos PDV-a po stavci
A10: 1. | B10: MLJEVENO MESO MIX (svinjetina+junetina) | C10: kg | D10: 550 | G10: =D10*E10 -> 0 | H10: =F10*G10 -> 0
A11: 2. | B11: BUT BK SVINJSKI | C11: kg | D11: 450 | G11: =D11*E11 -> 0 | H11: =F11*G11 -> 0
A12: 3. | B12: JUNEĆI BUT BEZ KOSTI | C12: kg | D12: 105 | G12: =D12*E12 -> 0 | H12: =F12*G12 -> 0
G13: ukupna cijena(bez PDV-a) | H13: =SUM(G10:G12) -> 0
G14: Iznos PDV-a | H14: =SUM(H10:H12) -> 0
G15: ukupna cijena s PDV | H15: =H13+H14 -> 0
B19: U ______________________2025. godina | F19: Potpis i pečat:

Sheet Grupa B-Suhomesnati proizvodi
A1: Naručitelj: Dječji vrtić "Medenjak" Koprivnica
A2: Evidencijski broj nabave:
A3: 4/25 JDN
A4: Predmet nabave:
A5: Grupa B- Suhomesnati proizvodi
A7: Naziv ponuditelja:
A8: (ovdje upisati naziv ponuditelja - ispunjava ponuditelj)
A9: Redni broj | B9: Naziv artikla | C9: Jedinica mjere | D9: Okvirna količina | E9: Cijena stavke (bez PDV-a) | F9: Stopa PDV-a po stavci | G9: Ukupna cijena stavke (bez PDV-a) | H9: Iznos PDV-a po stavci
A10: 1. | B10: DIMLJENI SVINJSKI VRAT | C10: kg | D10: 70 | G10: =D10*E10 -> 0 | H10: =F10*G10 -> 0
A11: 2. | B11: HAMBURGER | C11: kg | D11: 120 | G11: =D11*E11 -> 0 | H11: =F11*G11 -> 0
A12: 3. | B12: KRANJSKA KOBASICA | C12: kg | D12: 80 | G12: =D12*E12 -> 0 | H12: =F12*G12 -> 0
G13: ukupna cijena(bez PDV-a) | H13: =SUM(G10:G12) -> 0
G14: Iznos PDV-a | H14: =SUM(H10:H12) -> 0
G15: ukupna cijena s PDV | H15: =H13+H14 -> 0
B18: U | C18: 2025. godine | F18: Potpis i pečat:

Sheet Grupa C-Pileće meso
A1: Naručitelj: Dječji vrtić "Medenjak" Koprivnica
A2: Evidencijski broj nabave:
A3: 4/25 JDN
A4: Predmet nabave:
A5: Grupa C- Pileće meso
A7: Naziv ponuditelja:
A8: (ovdje upisati naziv ponuditelja - ispunjava ponuditelj)
A9: Redni broj | B9: Naziv artikla | C9: Jedinica mjere | D9: Okvirna količina | E9: Cijena stavke (bez PDV-a) | F9: Stopa PDV-a po stavci | G9: Ukupna cijena (bez PDV-a) | H9: Iznos PDV-a po stavci
A10: 1. | B10: PILEĆA PRSA | C10: kg | D10: 50 | G10: =D10*E10 -> 0 | H10: =F10*G10 -> 0
A11: 2. | B11: PILEĆI FILE ZABATKA | C11: kg | D11: 310 | G11: =D11*E11 -> 0 | H11: =F11*G11 -> 0
A12: 3. | B12: PILEĆI FILE OD PRSA | C12: kg | D12: 65 | G12: =D12*E12 -> 0 | H12: =F12*G12 -> 0
G13: ukupna cijena(bez PDV-a) | H13: =SUM(G10:G12) -> 0
G14: Iznos PDV-a | H14: =SUM(H10:H12) -> 0
G15: ukupna cijena s PDV | H15: =H13+H14 -> 0
B18: U _____________________2025. godine | F18: Potpis i pečat:
